BEGIN:VCALENDAR
VERSION:2.0
X-WR-CALNAME: Anstehende Konzerte
PRODID:GIGPRESS 2.0 WORDPRESS PLUGIN
CALSCALE:GREGORIAN
X-WR-TIMEZONE:Etc/GMT
METHOD:PUBLISH
BEGIN:VTIMEZONE
TZID:GMT
BEGIN:STANDARD
DTSTART:20071028T010000
TZOFFSETTO:+0000
TZOFFSETFROM:+0000
END:STANDARD
END:VTIMEZONE
BEGIN:VEVENT
SUMMARY:Zwei glorreiche Halunken \, Dorfwirt Oberlaa
DESCRIPTION:Keine
LOCATION:Dorfwirt Oberlaa\, Liesingbachstraße 75\, Wien\, AT
UID:20260424T160000Z-1037-david.zenz@gmx.net
URL:https://www.alexkarlin.at
DTSTART;VALUE=DATE-TIME;TZID=GMT:20260424T160000Z
DTEND;VALUE=DATE-TIME;TZID=GMT:20260424T160000Z
DTSTAMP:20260420T095827Z
END:VEVENT
BEGIN:VEVENT
SUMMARY:Golden Melodies Orchestra \, Franz-Fürst-Freizeitzentrum
DESCRIPTION:Kosten: Vorverkauf € 35\,- | Abendkassa € 39\,-. Keine
LOCATION:Franz-Fürst-Freizeitzentrum\, Eumigweg 1-3\, Wiener Neudorf\, AT
UID:20260425T173000Z-929-david.zenz@gmx.net
URL:https://www.alexkarlin.at
DTSTART;VALUE=DATE-TIME;TZID=GMT:20260425T173000Z
DTEND;VALUE=DATE-TIME;TZID=GMT:20260425T173000Z
DTSTAMP:20260420T095827Z
END:VEVENT
BEGIN:VEVENT
SUMMARY:Wiener Wahnsinn \, Zachgasse
DESCRIPTION:Anmerkungen: Maibaumfest Keine
LOCATION:Zachgasse\, Wien\, AT
UID:20260430T160000Z-1058-david.zenz@gmx.net
URL:https://www.alexkarlin.at
DTSTART;VALUE=DATE-TIME;TZID=GMT:20260430T160000Z
DTEND;VALUE=DATE-TIME;TZID=GMT:20260430T160000Z
DTSTAMP:20260420T095827Z
END:VEVENT
BEGIN:VEVENT
SUMMARY:Karlin\, Rausch & Puffler \, Maiaufmarsch
DESCRIPTION:Anmerkungen: Fußmarsch vom Meidlinger Platz'l zum Rathaus Keine
LOCATION:Maiaufmarsch\, Start: Meidlinger Platzl\, Ziel: Rathausplatz\, Wien\, AT
UID:20260501T054000Z-1071-david.zenz@gmx.net
URL:https://www.alexkarlin.at
DTSTART;VALUE=DATE-TIME;TZID=GMT:20260501T054000Z
DTEND;VALUE=DATE-TIME;TZID=GMT:20260501T054000Z
DTSTAMP:20260420T095827Z
END:VEVENT
BEGIN:VEVENT
SUMMARY:Das Karlin & Horak Duo \, FF Süßenbrunn
DESCRIPTION:Keine
LOCATION:FF Süßenbrunn\, Süßenbrunner Pl. 19\, Wien\, AT
UID:20260503T120000Z-1053-david.zenz@gmx.net
URL:https://www.alexkarlin.at
DTSTART;VALUE=DATE-TIME;TZID=GMT:20260503T120000Z
DTEND;VALUE=DATE-TIME;TZID=GMT:20260503T120000Z
DTSTAMP:20260420T095827Z
END:VEVENT
BEGIN:VEVENT
SUMMARY:Metternich \, kulturbühne dakig
DESCRIPTION:Kosten: Eintritt € 20.00 Mitglieder € 15.00 AK Studenten € 10.00. Anmerkungen: Unplugged Keine
LOCATION:kulturbühne dakig\, Bahnstraße 33\, Gänserndof\, AT
UID:20260509T173000Z-1070-david.zenz@gmx.net
URL:https://www.alexkarlin.at
DTSTART;VALUE=DATE-TIME;TZID=GMT:20260509T173000Z
DTEND;VALUE=DATE-TIME;TZID=GMT:20260509T173000Z
DTSTAMP:20260420T095827Z
END:VEVENT
BEGIN:VEVENT
SUMMARY:Große Dinge \, G5
DESCRIPTION:Kosten: € 20\,-. Anmerkungen: Georg Danzer's Große Dinge &amp\; Ollas Leiwaund Keine
LOCATION:G5\, Heiligenstädter Str 31\, Bogen 217\, Wien\, AT
UID:20260521T180000Z-997-david.zenz@gmx.net
URL:https://www.alexkarlin.at
DTSTART;VALUE=DATE-TIME;TZID=GMT:20260521T180000Z
DTEND;VALUE=DATE-TIME;TZID=GMT:20260521T180000Z
DTSTAMP:20260420T095827Z
END:VEVENT
BEGIN:VEVENT
SUMMARY:Legends Of Rock \, Spinnerei Traun
DESCRIPTION:Kosten: Vorverkauf: € 24\,00 erm. € 22\,00 // Abendkassa: € 26\,00 erm. € 24\,00. Anmerkungen: KEEP THE FAITH - An Evening with the music of Bon Jovi Keine
LOCATION:Spinnerei Traun\, Obere Dorfstraße 5\, Traun\, AT
UID:20260522T173000Z-950-david.zenz@gmx.net
URL:https://www.alexkarlin.at
DTSTART;VALUE=DATE-TIME;TZID=GMT:20260522T173000Z
DTEND;VALUE=DATE-TIME;TZID=GMT:20260522T173000Z
DTSTAMP:20260420T095827Z
END:VEVENT
BEGIN:VEVENT
SUMMARY:Metternich \, Markt Neuhodis
DESCRIPTION:Kosten: ab € 35\,-. Anmerkungen: Rock'n'Riff Festival Keine
LOCATION:Markt Neuhodis\, Goldfischglas\, Markt Neuhodis\, AT
UID:20260530T130000Z-1016-david.zenz@gmx.net
URL:https://www.alexkarlin.at
DTSTART;VALUE=DATE-TIME;TZID=GMT:20260530T130000Z
DTEND;VALUE=DATE-TIME;TZID=GMT:20260530T130000Z
DTSTAMP:20260420T095827Z
END:VEVENT
BEGIN:VEVENT
SUMMARY:Meissnitzer Band \, Samerstall
DESCRIPTION:Abendkasse: 0650/7106627. Keine
LOCATION:Samerstall\, Kirchgasse 1\, Niedernsill\, AT
UID:20260606T173000Z-1072-david.zenz@gmx.net
URL:https://www.alexkarlin.at
DTSTART;VALUE=DATE-TIME;TZID=GMT:20260606T173000Z
DTEND;VALUE=DATE-TIME;TZID=GMT:20260606T173000Z
DTSTAMP:20260420T095827Z
END:VEVENT
BEGIN:VEVENT
SUMMARY:Meissnitzer Band \, Tieschen
DESCRIPTION:Anmerkungen: Open Air Keine
LOCATION:Tieschen\, Tieschen\, AT
UID:20260613T170000Z-1074-david.zenz@gmx.net
URL:https://www.alexkarlin.at
DTSTART;VALUE=DATE-TIME;TZID=GMT:20260613T170000Z
DTEND;VALUE=DATE-TIME;TZID=GMT:20260613T170000Z
DTSTAMP:20260420T095827Z
END:VEVENT
BEGIN:VEVENT
SUMMARY:Wiener Wahnsinn \, Tivoli
DESCRIPTION:Keine
LOCATION:Tivoli\, Laaer Wald 216\, Wien\, AT
UID:20260619T170000Z-1065-david.zenz@gmx.net
URL:https://www.alexkarlin.at
DTSTART;VALUE=DATE-TIME;TZID=GMT:20260619T170000Z
DTEND;VALUE=DATE-TIME;TZID=GMT:20260619T170000Z
DTSTAMP:20260420T095827Z
END:VEVENT
BEGIN:VEVENT
SUMMARY:Wiener Wahnsinn \, Café Hummel
DESCRIPTION:Keine
LOCATION:Café Hummel\, Siegespl. 15\, Wien\, AT
UID:20260626-1059-david.zenz@gmx.net
URL:https://www.alexkarlin.at
DTSTART;VALUE=DATE;TZID=GMT:20260626
DTEND;VALUE=DATE;TZID=GMT:20260626
DTSTAMP:20260420T095827Z
END:VEVENT
BEGIN:VEVENT
SUMMARY:Alex Karlin \, Rockx
DESCRIPTION:Keine
LOCATION:Rockx\, Simmeringer Hauptstraße 78\, Wien\, AT
UID:20260627T173000Z-1032-david.zenz@gmx.net
URL:https://www.alexkarlin.at
DTSTART;VALUE=DATE-TIME;TZID=GMT:20260627T173000Z
DTEND;VALUE=DATE-TIME;TZID=GMT:20260627T173000Z
DTSTAMP:20260420T095827Z
END:VEVENT
BEGIN:VEVENT
SUMMARY:Wiener Wahnsinn \, Donaupark
DESCRIPTION:Keine
LOCATION:Donaupark\, Wien\, AT
UID:20260712T160000Z-1066-david.zenz@gmx.net
URL:https://www.alexkarlin.at
DTSTART;VALUE=DATE-TIME;TZID=GMT:20260712T160000Z
DTEND;VALUE=DATE-TIME;TZID=GMT:20260712T160000Z
DTSTAMP:20260420T095827Z
END:VEVENT
BEGIN:VEVENT
SUMMARY:Wiener Wahnsinn \, Jakobitage Guntramsdorf
DESCRIPTION:Keine
LOCATION:Jakobitage Guntramsdorf\, Am Kirchenpl.\, Guntramsdorf\, AT
UID:20260720-1060-david.zenz@gmx.net
URL:https://www.alexkarlin.at
DTSTART;VALUE=DATE;TZID=GMT:20260720
DTEND;VALUE=DATE;TZID=GMT:20260720
DTSTAMP:20260420T095827Z
END:VEVENT
BEGIN:VEVENT
SUMMARY:Metternich \, Rüben Rock
DESCRIPTION:Kosten: € 10\,- / € 18\,-. Keine
LOCATION:Rüben Rock\, Rübenplatz oder Zuckerrübenplatz\, Niederhollabrunn\, AT
UID:20260724-1038-david.zenz@gmx.net
URL:https://www.alexkarlin.at
DTSTART;VALUE=DATE;TZID=GMT:20260724
DTEND;VALUE=DATE;TZID=GMT:20260724
DTSTAMP:20260420T095827Z
END:VEVENT
BEGIN:VEVENT
SUMMARY:Meissnitzer Band \, Seeleuchten Seebühne
DESCRIPTION:Keine
LOCATION:Seeleuchten Seebühne\, Niedersee 4\, St. Ulrich am Pillersee\, AT
UID:20260729T170000Z-1073-david.zenz@gmx.net
URL:https://www.alexkarlin.at
DTSTART;VALUE=DATE-TIME;TZID=GMT:20260729T170000Z
DTEND;VALUE=DATE-TIME;TZID=GMT:20260729T170000Z
DTSTAMP:20260420T095827Z
END:VEVENT
BEGIN:VEVENT
SUMMARY:Sumawind \, FF Rottenmann
DESCRIPTION:Keine
LOCATION:FF Rottenmann\, Bahnhofstraße 1\, Rottenmann\, AT
UID:20260801-1041-david.zenz@gmx.net
URL:https://www.alexkarlin.at
DTSTART;VALUE=DATE;TZID=GMT:20260801
DTEND;VALUE=DATE;TZID=GMT:20260801
DTSTAMP:20260420T095827Z
END:VEVENT
BEGIN:VEVENT
SUMMARY:Das Karlin & Horak Duo \, Schmiedhütte
DESCRIPTION:Keine
LOCATION:Schmiedhütte\, Schmiedhütte Hauser Kaibling\, Haus im Ennstal\, AT
UID:20260815-1039-david.zenz@gmx.net
URL:https://www.alexkarlin.at
DTSTART;VALUE=DATE;TZID=GMT:20260815
DTEND;VALUE=DATE;TZID=GMT:20260815
DTSTAMP:20260420T095827Z
END:VEVENT
BEGIN:VEVENT
SUMMARY:Wiener Wahnsinn \, Roter Hiasl
DESCRIPTION:Keine
LOCATION:Roter Hiasl\, Biberhaufenweg 228\, Wien\, AT
UID:20260828-1061-david.zenz@gmx.net
URL:https://www.alexkarlin.at
DTSTART;VALUE=DATE;TZID=GMT:20260828
DTEND;VALUE=DATE;TZID=GMT:20260828
DTSTAMP:20260420T095827Z
END:VEVENT
BEGIN:VEVENT
SUMMARY:Wiener Wahnsinn \, Ottakringer Kirtag
DESCRIPTION:Keine
LOCATION:Ottakringer Kirtag\, Ottakringer Str. 222\, Wien\, AT
UID:20260911-1067-david.zenz@gmx.net
URL:https://www.alexkarlin.at
DTSTART;VALUE=DATE;TZID=GMT:20260911
DTEND;VALUE=DATE;TZID=GMT:20260911
DTSTAMP:20260420T095827Z
END:VEVENT
BEGIN:VEVENT
SUMMARY:Legends Of Rock \, Harley-Davidson Village
DESCRIPTION:Keine
LOCATION:Harley-Davidson Village\, Marktpl.\, Faak am See\, AT
UID:20260912T173000Z-1050-david.zenz@gmx.net
URL:https://www.alexkarlin.at
DTSTART;VALUE=DATE-TIME;TZID=GMT:20260912T173000Z
DTEND;VALUE=DATE-TIME;TZID=GMT:20260912T173000Z
DTSTAMP:20260420T095827Z
END:VEVENT
BEGIN:VEVENT
SUMMARY:Legends Of Rock \, Kultur im Zentrum Spielberg
DESCRIPTION:Abendkasse: 03512 7523016. Anmerkungen: KEEP THE FAITH - An evening with the music of Bon Jovi Keine
LOCATION:Kultur im Zentrum Spielberg\, Marktpassage 1B1\, Marktpassage 1\, Spielberg\, AT
UID:20260925T163000Z-1033-david.zenz@gmx.net
URL:https://www.alexkarlin.at
DTSTART;VALUE=DATE-TIME;TZID=GMT:20260925T163000Z
DTEND;VALUE=DATE-TIME;TZID=GMT:20260925T163000Z
DTSTAMP:20260420T095827Z
END:VEVENT
BEGIN:VEVENT
SUMMARY:Golden Melodies Orchestra \, Konzerthaus
DESCRIPTION:Keine
LOCATION:Konzerthaus\, Lothringerstraße 20\, Wien\, AT
UID:20260926T173000Z-990-david.zenz@gmx.net
URL:https://www.alexkarlin.at
DTSTART;VALUE=DATE-TIME;TZID=GMT:20260926T173000Z
DTEND;VALUE=DATE-TIME;TZID=GMT:20260926T173000Z
DTSTAMP:20260420T095827Z
END:VEVENT
BEGIN:VEVENT
SUMMARY:Wiener Wahnsinn \, Kaiser Wiesn
DESCRIPTION:Kosten: € 45\,- - € 89\,-. Anmerkungen: Wiesbauer Zelt Keine
LOCATION:Kaiser Wiesn\, Oswald-Thomas-Platz 1\, Wien\, AT
UID:20261001T163000Z-1062-david.zenz@gmx.net
URL:https://www.alexkarlin.at
DTSTART;VALUE=DATE-TIME;TZID=GMT:20261001T163000Z
DTEND;VALUE=DATE-TIME;TZID=GMT:20261001T163000Z
DTSTAMP:20260420T095827Z
END:VEVENT
BEGIN:VEVENT
SUMMARY:Legends Of Rock \, Kulturszene Kottingbrunn
DESCRIPTION:Anmerkungen: LEGENDS OF ROCK - The greatest duets in Rock history Keine
LOCATION:Kulturszene Kottingbrunn\, Schloß 1\, Kottingbrunn\, AT
UID:20261002T173000Z-987-david.zenz@gmx.net
URL:https://www.alexkarlin.at
DTSTART;VALUE=DATE-TIME;TZID=GMT:20261002T173000Z
DTEND;VALUE=DATE-TIME;TZID=GMT:20261002T173000Z
DTSTAMP:20260420T095827Z
END:VEVENT
BEGIN:VEVENT
SUMMARY:Legends Of Rock \, Bettfedernfabrik
DESCRIPTION:Anmerkungen: KEEP THE FAITH - An evening with the music of Bon Jovi Keine
LOCATION:Bettfedernfabrik\, Kulturstr. 1\, Oberwaltersdorf\, AT
UID:20261016T163000Z-954-david.zenz@gmx.net
URL:https://www.alexkarlin.at
DTSTART;VALUE=DATE-TIME;TZID=GMT:20261016T163000Z
DTEND;VALUE=DATE-TIME;TZID=GMT:20261016T163000Z
DTSTAMP:20260420T095827Z
END:VEVENT
BEGIN:VEVENT
SUMMARY:Wiener Wahnsinn \, Orpheum Wien
DESCRIPTION:Keine
LOCATION:Orpheum Wien\, Steigenteschgasse 94B\, Wien\, AT
UID:20261106-1068-david.zenz@gmx.net
URL:https://www.alexkarlin.at
DTSTART;VALUE=DATE;TZID=GMT:20261106
DTEND;VALUE=DATE;TZID=GMT:20261106
DTSTAMP:20260420T095827Z
END:VEVENT
BEGIN:VEVENT
SUMMARY:Metternich \, Tschocherl
DESCRIPTION:Keine
LOCATION:Tschocherl\, Wurmsergasse 42\, Wien\, AT
UID:20261113T183000Z-1042-david.zenz@gmx.net
URL:https://www.alexkarlin.at
DTSTART;VALUE=DATE-TIME;TZID=GMT:20261113T183000Z
DTEND;VALUE=DATE-TIME;TZID=GMT:20261113T183000Z
DTSTAMP:20260420T095827Z
END:VEVENT
BEGIN:VEVENT
SUMMARY:Wiener Wahnsinn \, MS Prinzessin Sisi
DESCRIPTION:Anmerkungen: Wiener Wahnsinn Fanreise 2026 – Flusskreuzfahrt auf der Donau nach Bratislava mit Live Konzert an Bord Keine
LOCATION:MS Prinzessin Sisi\, Wien\, AT
UID:20261119T130000Z-1063-david.zenz@gmx.net
URL:https://www.alexkarlin.at
DTSTART;VALUE=DATE-TIME;TZID=GMT:20261119T130000Z
DTEND;VALUE=DATE-TIME;TZID=GMT:20261119T130000Z
DTSTAMP:20260420T095827Z
END:VEVENT
BEGIN:VEVENT
SUMMARY:Meissnitzer Band \, Radochsbergkirche
DESCRIPTION:Kosten: € 25\,- / Schüler: € 15\,75. Keine
LOCATION:Radochsbergkirche\, Stocker 3\, Abtenau\, AT
UID:20261121T140000Z-1001-david.zenz@gmx.net
URL:https://www.alexkarlin.at
DTSTART;VALUE=DATE-TIME;TZID=GMT:20261121T140000Z
DTEND;VALUE=DATE-TIME;TZID=GMT:20261121T140000Z
DTSTAMP:20260420T095827Z
END:VEVENT
BEGIN:VEVENT
SUMMARY:Meissnitzer Band \, Radochsbergkirche
DESCRIPTION:Kosten: € 25\,- / Schüler: € 15\,75. Keine
LOCATION:Radochsbergkirche\, Stocker 3\, Abtenau\, AT
UID:20261121T180000Z-1002-david.zenz@gmx.net
URL:https://www.alexkarlin.at
DTSTART;VALUE=DATE-TIME;TZID=GMT:20261121T180000Z
DTEND;VALUE=DATE-TIME;TZID=GMT:20261121T180000Z
DTSTAMP:20260420T095827Z
END:VEVENT
BEGIN:VEVENT
SUMMARY:Meissnitzer Band \, Radochsbergkirche
DESCRIPTION:Kosten: € 25\,- / Schüler: € 15\,75. Keine
LOCATION:Radochsbergkirche\, Stocker 3\, Abtenau\, AT
UID:20261122T140000Z-1003-david.zenz@gmx.net
URL:https://www.alexkarlin.at
DTSTART;VALUE=DATE-TIME;TZID=GMT:20261122T140000Z
DTEND;VALUE=DATE-TIME;TZID=GMT:20261122T140000Z
DTSTAMP:20260420T095827Z
END:VEVENT
BEGIN:VEVENT
SUMMARY:Meissnitzer Band \, Radochsbergkirche
DESCRIPTION:Kosten: € 25\,- / Schüler: € 15\,75. Keine
LOCATION:Radochsbergkirche\, Stocker 3\, Abtenau\, AT
UID:20261122T180000Z-1004-david.zenz@gmx.net
URL:https://www.alexkarlin.at
DTSTART;VALUE=DATE-TIME;TZID=GMT:20261122T180000Z
DTEND;VALUE=DATE-TIME;TZID=GMT:20261122T180000Z
DTSTAMP:20260420T095827Z
END:VEVENT
BEGIN:VEVENT
SUMMARY:Meissnitzer Band \, Radochsbergkirche
DESCRIPTION:Kosten: € 25\,- / Schüler: € 15\,75. Keine
LOCATION:Radochsbergkirche\, Stocker 3\, Abtenau\, AT
UID:20261128T140000Z-1005-david.zenz@gmx.net
URL:https://www.alexkarlin.at
DTSTART;VALUE=DATE-TIME;TZID=GMT:20261128T140000Z
DTEND;VALUE=DATE-TIME;TZID=GMT:20261128T140000Z
DTSTAMP:20260420T095827Z
END:VEVENT
BEGIN:VEVENT
SUMMARY:Meissnitzer Band \, Radochsbergkirche
DESCRIPTION:Kosten: € 25\,- / Schüler: € 15\,75. Keine
LOCATION:Radochsbergkirche\, Stocker 3\, Abtenau\, AT
UID:20261128T180000Z-1006-david.zenz@gmx.net
URL:https://www.alexkarlin.at
DTSTART;VALUE=DATE-TIME;TZID=GMT:20261128T180000Z
DTEND;VALUE=DATE-TIME;TZID=GMT:20261128T180000Z
DTSTAMP:20260420T095827Z
END:VEVENT
BEGIN:VEVENT
SUMMARY:Meissnitzer Band \, Radochsbergkirche
DESCRIPTION:Kosten: € 25\,- / Schüler: € 15\,75. Keine
LOCATION:Radochsbergkirche\, Stocker 3\, Abtenau\, AT
UID:20261129T140000Z-1007-david.zenz@gmx.net
URL:https://www.alexkarlin.at
DTSTART;VALUE=DATE-TIME;TZID=GMT:20261129T140000Z
DTEND;VALUE=DATE-TIME;TZID=GMT:20261129T140000Z
DTSTAMP:20260420T095827Z
END:VEVENT
BEGIN:VEVENT
SUMMARY:Meissnitzer Band \, Radochsbergkirche
DESCRIPTION:Kosten: € 25\,- / Schüler: € 15\,75. Keine
LOCATION:Radochsbergkirche\, Stocker 3\, Abtenau\, AT
UID:20261129T180000Z-1008-david.zenz@gmx.net
URL:https://www.alexkarlin.at
DTSTART;VALUE=DATE-TIME;TZID=GMT:20261129T180000Z
DTEND;VALUE=DATE-TIME;TZID=GMT:20261129T180000Z
DTSTAMP:20260420T095827Z
END:VEVENT
BEGIN:VEVENT
SUMMARY:Meissnitzer Band \, Wahlfahrtskirche Maria Kirchental
DESCRIPTION:Anmerkungen: Tickets unter Alexandra.Ledersberger@lofer.com Keine
LOCATION:Wahlfahrtskirche Maria Kirchental\, Kirchental 1\, St. Martin bei Lofer\, AT
UID:20261206T140000Z-1009-david.zenz@gmx.net
URL:https://www.alexkarlin.at
DTSTART;VALUE=DATE-TIME;TZID=GMT:20261206T140000Z
DTEND;VALUE=DATE-TIME;TZID=GMT:20261206T140000Z
DTSTAMP:20260420T095827Z
END:VEVENT
BEGIN:VEVENT
SUMMARY:Meissnitzer Band \, ESV Halle
DESCRIPTION:Keine
LOCATION:ESV Halle\, Neudörfl 3\, Dörfl\, AT
UID:20261207T190000Z-1043-david.zenz@gmx.net
URL:https://www.alexkarlin.at
DTSTART;VALUE=DATE-TIME;TZID=GMT:20261207T190000Z
DTEND;VALUE=DATE-TIME;TZID=GMT:20261207T190000Z
DTSTAMP:20260420T095827Z
END:VEVENT
BEGIN:VEVENT
SUMMARY:Meissnitzer Band \, Radochsbergkirche
DESCRIPTION:Keine
LOCATION:Radochsbergkirche\, Stocker 3\, Abtenau\, AT
UID:20261208T140000Z-1011-david.zenz@gmx.net
URL:https://www.alexkarlin.at
DTSTART;VALUE=DATE-TIME;TZID=GMT:20261208T140000Z
DTEND;VALUE=DATE-TIME;TZID=GMT:20261208T140000Z
DTSTAMP:20260420T095827Z
END:VEVENT
BEGIN:VEVENT
SUMMARY:Meissnitzer Band \, Radochsbergkirche
DESCRIPTION:Keine
LOCATION:Radochsbergkirche\, Stocker 3\, Abtenau\, AT
UID:20261208T180000Z-1044-david.zenz@gmx.net
URL:https://www.alexkarlin.at
DTSTART;VALUE=DATE-TIME;TZID=GMT:20261208T180000Z
DTEND;VALUE=DATE-TIME;TZID=GMT:20261208T180000Z
DTSTAMP:20260420T095827Z
END:VEVENT
BEGIN:VEVENT
SUMMARY:Meissnitzer Band \, Salzwelten Salzburg
DESCRIPTION:Keine
LOCATION:Salzwelten Salzburg\, Ramsaustraße 3\, Bad Dürrnberg\, AT
UID:20261213T140000Z-1012-david.zenz@gmx.net
URL:https://www.alexkarlin.at
DTSTART;VALUE=DATE-TIME;TZID=GMT:20261213T140000Z
DTEND;VALUE=DATE-TIME;TZID=GMT:20261213T140000Z
DTSTAMP:20260420T095827Z
END:VEVENT
BEGIN:VEVENT
SUMMARY:Meissnitzer Band \, Salzwelten Salzburg
DESCRIPTION:Keine
LOCATION:Salzwelten Salzburg\, Ramsaustraße 3\, Bad Dürrnberg\, AT
UID:20261213T183000Z-1013-david.zenz@gmx.net
URL:https://www.alexkarlin.at
DTSTART;VALUE=DATE-TIME;TZID=GMT:20261213T183000Z
DTEND;VALUE=DATE-TIME;TZID=GMT:20261213T183000Z
DTSTAMP:20260420T095827Z
END:VEVENT
BEGIN:VEVENT
SUMMARY:Meissnitzer Band \, Maximilianplatz
DESCRIPTION:Keine
LOCATION:Maximilianplatz\, Josef-Wopfner-Straße 12\, Schwaz\, AT
UID:20261218T180000Z-1014-david.zenz@gmx.net
URL:https://www.alexkarlin.at
DTSTART;VALUE=DATE-TIME;TZID=GMT:20261218T180000Z
DTEND;VALUE=DATE-TIME;TZID=GMT:20261218T180000Z
DTSTAMP:20260420T095827Z
END:VEVENT
BEGIN:VEVENT
SUMMARY:Meissnitzer Band \, Musikpavillion
DESCRIPTION:Keine
LOCATION:Musikpavillion\, Oberlängenfeld 35\, Oberlängenfeld\, AT
UID:20261219T170000Z-1045-david.zenz@gmx.net
URL:https://www.alexkarlin.at
DTSTART;VALUE=DATE-TIME;TZID=GMT:20261219T170000Z
DTEND;VALUE=DATE-TIME;TZID=GMT:20261219T170000Z
DTSTAMP:20260420T095827Z
END:VEVENT
BEGIN:VEVENT
SUMMARY:Legends Of Rock \, Orpheum Wien
DESCRIPTION:Anmerkungen: KEEP THE FAITH - An evening with the music of Bon Jovi Keine
LOCATION:Orpheum Wien\, Steigenteschgasse 94B\, Wien\, AT
UID:20270123T183000Z-1046-david.zenz@gmx.net
URL:https://www.alexkarlin.at
DTSTART;VALUE=DATE-TIME;TZID=GMT:20270123T183000Z
DTEND;VALUE=DATE-TIME;TZID=GMT:20270123T183000Z
DTSTAMP:20260420T095827Z
END:VEVENT
BEGIN:VEVENT
SUMMARY:Golden Melodies Orchestra \, Congress Center Baden
DESCRIPTION:Keine
LOCATION:Congress Center Baden\, Kaiser Franz-Ring 1\, Baden\, AT
UID:20270410-999-david.zenz@gmx.net
URL:https://www.alexkarlin.at
DTSTART;VALUE=DATE;TZID=GMT:20270410
DTEND;VALUE=DATE;TZID=GMT:20270410
DTSTAMP:20260420T095827Z
END:VEVENT
BEGIN:VEVENT
SUMMARY:Legends Of Rock \, Stadthalle Ternitz
DESCRIPTION:Anmerkungen: KEEP THE FAITH - An evening with the music of Bon Jovi Keine
LOCATION:Stadthalle Ternitz\, Theodor-Körner-Platz 2\, Ternitz\, AT
UID:20270424T180000Z-1047-david.zenz@gmx.net
URL:https://www.alexkarlin.at
DTSTART;VALUE=DATE-TIME;TZID=GMT:20270424T180000Z
DTEND;VALUE=DATE-TIME;TZID=GMT:20270424T180000Z
DTSTAMP:20260420T095827Z
END:VEVENT
BEGIN:VEVENT
SUMMARY:Metternich \, Orpheum Wien
DESCRIPTION:Keine
LOCATION:Orpheum Wien\, Steigenteschgasse 94B\, Wien\, AT
UID:20271119-1040-david.zenz@gmx.net
URL:https://www.alexkarlin.at
DTSTART;VALUE=DATE;TZID=GMT:20271119
DTEND;VALUE=DATE;TZID=GMT:20271119
DTSTAMP:20260420T095827Z
END:VEVENT
END:VCALENDAR